BEGIN:VCALENDAR
VERSION:2.0
PRODID:-//Tennessee Baptist Disaster Relief - ECPv6.15.20//NONSGML v1.0//EN
CALSCALE:GREGORIAN
METHOD:PUBLISH
X-ORIGINAL-URL:https://tndisasterrelief.org
X-WR-CALDESC:Events for Tennessee Baptist Disaster Relief
REFRESH-INTERVAL;VALUE=DURATION:PT1H
X-Robots-Tag:noindex
X-PUBLISHED-TTL:PT1H
BEGIN:VTIMEZONE
TZID:America/Chicago
BEGIN:DAYLIGHT
TZOFFSETFROM:-0600
TZOFFSETTO:-0500
TZNAME:CDT
DTSTART:20220313T080000
END:DAYLIGHT
BEGIN:STANDARD
TZOFFSETFROM:-0500
TZOFFSETTO:-0600
TZNAME:CST
DTSTART:20221106T070000
END:STANDARD
BEGIN:DAYLIGHT
TZOFFSETFROM:-0600
TZOFFSETTO:-0500
TZNAME:CDT
DTSTART:20230312T080000
END:DAYLIGHT
BEGIN:STANDARD
TZOFFSETFROM:-0500
TZOFFSETTO:-0600
TZNAME:CST
DTSTART:20231105T070000
END:STANDARD
BEGIN:DAYLIGHT
TZOFFSETFROM:-0600
TZOFFSETTO:-0500
TZNAME:CDT
DTSTART:20240310T080000
END:DAYLIGHT
BEGIN:STANDARD
TZOFFSETFROM:-0500
TZOFFSETTO:-0600
TZNAME:CST
DTSTART:20241103T070000
END:STANDARD
END:VTIMEZONE
BEGIN:VEVENT
DTSTART;TZID=America/Chicago:20230805T074500
DTEND;TZID=America/Chicago:20230805T143000
DTSTAMP:20260421T140134
CREATED:20230705T153853Z
LAST-MODIFIED:20231019T054347Z
UID:10287-1691221500-1691245800@tndisasterrelief.org
SUMMARY:Introduction to Disaster Relief\, Chainsaw\, and Flood Recovery - Chattanooga (East)
DESCRIPTION:August 5\, 2023 – Ridgedale Baptist Church\, 1831 Hickory Valley Road\, Chattanooga\, TN 37421. To pre-register for this class\, contact Doyle Pittman at dpittman12@epbfi.com or (423) 240-1274with your names and classes desired. \nPlease preregister by Tuesday\, August 1\, so that we can supply you with the proper training materials. \nThe credentialing fee is $40 (effective January 1\, 2023). This fee will cover not only the cost of the ID\, hat\, background check\, and membership pin\, but also the cost of any of the basic training courses a volunteer wants to take over the next 3 years. \nTo be fully credentialed\, you will need to take at least one specialized class after you have taken the prerequisite course of “Introduction to Southern Baptist Disaster Relief.” \n7:45 a.m. – 8:15 a.m. – Registration \n8:15 a.m. – 10:15 a.m. – Introduction to Disaster Relief \n10:15 a.m. – 10:30 a.m. – Break \n10:30 a.m. – 12:00 p.m. – Chainsaw Operation & Safety (classroom) \n12:00 p.m. – 1:00 p.m. – Lunch ($6 for those that pre-register) \n1:00 p.m. – 2:30 p.m. – Flood Recovery \n  \nRegistration Forms \nDisaster Relief volunteers can now download the following forms to their computers and fill them out and bring them with you to training or send them to the DR office. By typing these forms\, you are helping us save time with data entry and increasing our accuracy of keeping your records. \nUse this link to find the forms: https://tndisasterrelief.org/registration-forms/
URL:https://tndisasterrelief.org/event/introduction-to-disaster-relief-chainsaw-and-flood-recovery-chattanooga-east/
LOCATION:Ridgedale Baptist Church\, Chattaooga\, 1831 Hickory Valley Road\, Chattanooga\, TN\, 37421\, United States
CATEGORIES:Intro to DR,Specialized,Training
ATTACH;FMTTYPE=image/webp:https://tndisasterrelief.org/wp-content/uploads/2020/12/logo-class-intro-med.webp
END:VEVENT
BEGIN:VEVENT
DTSTART;TZID=America/Chicago:20230819T080000
DTEND;TZID=America/Chicago:20230819T114500
DTSTAMP:20260421T140134
CREATED:20230714T092609Z
LAST-MODIFIED:20231013T042953Z
UID:10295-1692432000-1692445500@tndisasterrelief.org
SUMMARY:Mass Feeding (Classroom) - Mt. Juliet (Middle TN)
DESCRIPTION:August 19\, 2023 – Missions Mobilization Center\, 6434 John Hagar Road\, Mt. Juliet\, TN 37122. To pre-register for this class\, REGISTER ONLINE – click here.  For questions\, contact Elizabeth Holmes at eholmes@tnbaptist.org or (615) 371-7926.   \nPlease pre-register by Monday\, August 15\, so that we can supply you with the proper training materials and/or lunch count on Saturday. \nThe credentialing fee is $40 (effective January 1\, 2023). This fee will cover not only the cost of the ID\, hat\, background check\, and membership pin\, but also the cost of any of the basic training courses a volunteer wants to take over the next 3 years. \nTo be fully credentialed\, you will need to take at least one specialized class after you have taken the prerequisite course of “Introduction to Southern Baptist Disaster Relief.” \n8:00 a.m. – 8:30 a.m.    Registration \n8:30 a.m. – 10:00 a.m.   Mass Feeding (3-hour class) – Part 1 \n10:00 a.m. – 10:15 a.m.   Break \n10:15 a.m. – 11:45 a.m.     Mass Feeding (3-hour class) – Part 2 \nRegistration Forms \nDisaster Relief volunteers can now download the following forms to their computers and fill them out and bring them with you to training or send them to the DR office. By typing these forms\, you are helping us save time with data entry and increasing our accuracy of keeping your records. \nUse this link to find the forms: https://tndisasterrelief.org/wp-content/uploads/2023/01/2023-Record-of-Volunteer-Training-fillable.pdf
URL:https://tndisasterrelief.org/event/mass-feeding-classroom-mt-juliet-middle-tn/
LOCATION:Missions Mobilization Center\, 6434 John Hagar Road\, Mt. Juliet\, TN\, United States
CATEGORIES:Specialized,Training
END:VEVENT
BEGIN:VEVENT
DTSTART;TZID=America/Chicago:20230826T074500
DTEND;TZID=America/Chicago:20230826T143000
DTSTAMP:20260421T140134
CREATED:20230425T093527Z
LAST-MODIFIED:20231019T054552Z
UID:10235-1693035900-1693060200@tndisasterrelief.org
SUMMARY:Introduction to Disaster Relief/Chainsaw/Damage Assessment/Flood Recovery - Millington (West TN)
DESCRIPTION:August 26\, 2023 – First Baptist Church\, 5010 W Union Rd\, Millington\, TN 38363. To pre-register for this class\, REGISTER ONLINE – click here.  For questions\, contact Elizabeth Holmes at eholmes@tnbaptist.org or (615) 371-7926.   \nPlease pre-register by Monday\, August 22\, so that we can supply you with the proper training materials and/or lunch count on Saturday. \nThe credentialing fee is $40 (effective January 1\, 2023). This fee will cover not only the cost of the ID\, hat\, background check\, and membership pin\, but also the cost of any of the basic training courses a volunteer wants to take over the next 3 years. \nTo be fully credentialed\, you will need to take at least one specialized class after you have taken the prerequisite course of “Introduction to Southern Baptist Disaster Relief.” \n7:45 a.m. – 8:15 a.m.      Registration \n8:15 a.m. – 10:15 a.m.    Introduction to Disaster Relief (2-hour class) \n10:15 a.m. – 10:30 a.m.  Break \nCHOOSE ONE: \n10:30 a.m. – 12:00 p.m.  Chainsaw Operation & Safety Classroom \n10:30 a.m. – 12:00 p.m.  Damage Assessment \n10:30 a.m. – 12:00 p.m.  Flood Recovery \n  \n12:00 p.m. – 1:00 p.m.  – Lunch – $6/person for those who pre-register online or by email. \n  \nCHOOSE ONE (Classes are repeated from the a.m. classes.): \n1:00 p.m. – 2:30 p.m.  Chainsaw Safety & Operation Classroom \n1:00 p.m. – 2:30 p.m.  Damage Assessment \n1:00 p.m. – 2:30 p.m.  Flood Recovery \n  \nRegistration Forms \nDisaster Relief volunteers can now download the following forms to their computers and fill them out and bring them with you to training. By typing these forms\, you are helping us save time with data entry and increasing our accuracy of keeping your records. \nUse this link to find the forms: https://tndisasterrelief.org/registration-forms/
URL:https://tndisasterrelief.org/event/introduction-to-disaster-relief-chainsaw-damage-assessment-flood-recovery-millington-west-tn/
LOCATION:Millington\, First Baptist Church\, 5010 W Union Rd\, Millington\, TN\, 38053\, United States
CATEGORIES:Intro to DR,Specialized,Training
ATTACH;FMTTYPE=image/webp:https://tndisasterrelief.org/wp-content/uploads/2020/12/logo-class-intro-med.webp
END:VEVENT
END:VCALENDAR