BEGIN:VCALENDAR
VERSION:2.0
PRODID:-//Tennessee Baptist Disaster Relief - ECPv6.15.20//NONSGML v1.0//EN
CALSCALE:GREGORIAN
METHOD:PUBLISH
X-ORIGINAL-URL:https://tndisasterrelief.org
X-WR-CALDESC:Events for Tennessee Baptist Disaster Relief
REFRESH-INTERVAL;VALUE=DURATION:PT1H
X-Robots-Tag:noindex
X-PUBLISHED-TTL:PT1H
BEGIN:VTIMEZONE
TZID:UTC
BEGIN:STANDARD
TZOFFSETFROM:+0000
TZOFFSETTO:+0000
TZNAME:UTC
DTSTART:20230101T000000
END:STANDARD
END:VTIMEZONE
BEGIN:VEVENT
DTSTART;TZID=UTC:20240913T173000
DTEND;TZID=UTC:20240914T150000
DTSTAMP:20260421T113917
CREATED:20240722T133606Z
LAST-MODIFIED:20240722T133606Z
UID:14978-1726248600-1726326000@tndisasterrelief.org
SUMMARY:Introduction to Disaster Relief and Specialized Classes or Chaplaincy - Chattanooga (East TN)
DESCRIPTION:September 13-14\, 2024 – Red Bank Baptist Church\, 4000 Dayton Boulevard\, Chattanooga\, TN 37415. To pre-register for this class\, use the following link:  Disaster Relief Training – Red Bank.  \nPlease preregister by Monday\, September 9\, so that we can supply you with the proper training materials and get a lunch count for Saturday. \nThe credentialing fee is $40 (effective January 1\, 2023). This fee will cover not only the cost of the ID\, hat\, background check\, and membership pin\, but also the cost of any of the basic training courses a volunteer wants to take over the next 3 years. \nTo be fully credentialed\, you will need to take at least one specialized class after you have taken the prerequisite course of “Introduction to Southern Baptist Disaster Relief.” \nFriday\, September 13\, 2024 \n5:30 – 6:00 p.m.                Registration \n6:00 – 9:00 p.m.                Chaplaincy (Requires letter of recommendation) (Continues all day on Saturday) \nSaturday\, September 14\, 2024 \n7:45 – 8:15 a.m.                    Registration \n8:15 – 10:15 a.m.                 Introduction to Disaster Relief \n8:15 – 10:15 a.m.                 Chaplaincy (continued) \n10:15 – 10:30 a.m.              Break \n10:30 a.m. – 12:30 p.m.    Chainsaw Operation & Safety (classroom) \n10:30 a.m. – 12:30 p.m.    Chaplaincy (continued) \n10:30 a.m. – 12:30 p.m.    Shower and Laundry \n12:30 – 1:00 p.m.                 Lunch ($7 for those that pre-register) \n1:00 – 3:00 p.m.                   Flood Recovery \n1:00 – 3:00 p.m.                   Chaplaincy (continued) \nFor any questions contact Doyle Pittman at dpittman12@epbfi.com  or (423) 240-1274. \n  \nRegistration Forms \nDisaster Relief volunteers can now download the following forms to their computers and fill them out and bring them with you to training or send them to the DR office. By typing these forms\, you are helping us save time with data entry and increasing our accuracy of keeping your records. \nUse this link to find the forms: https://tndisasterrelief.org/registration-forms/
URL:https://tndisasterrelief.org/event/introduction-to-disaster-relief-and-specialized-classes-or-chaplaincy-chattanooga-east-tn/
LOCATION:Red Bank Baptist Church
CATEGORIES:Chaplaincy,Intro to DR,Recertification,Regional,Specialized,Training
END:VEVENT
BEGIN:VEVENT
DTSTART;TZID=UTC:20240928T073000
DTEND;TZID=UTC:20240928T134500
DTSTAMP:20260421T113917
CREATED:20240819T185217Z
LAST-MODIFIED:20240918T195612Z
UID:14981-1727508600-1727531100@tndisasterrelief.org
SUMMARY:Introduction to Disaster Relief\, Flood Recovery\, and Rebuild - Strawberry Plains (East TN)
DESCRIPTION:September 28\, 2024 – Lyons Creek Baptist Church\, 9235 Strawberry Plains Pike\, Strawberry Plains\, TN 37871.  To pre-register for this class\, contact Tony Ellis at tellisrex@att.netor (865) 591-2000 with your names and classes desired. \nPlease pre-register by Monday\, September 23\, so that we can supply you with the proper training materials and/or lunch count on Saturday. \nThe credentialing fee is $40. This fee will cover not only the cost of the ID\, hat\, background check\, and membership pin\, but also the cost of any of the basic training courses a volunteer wants to take over the next 3 years. \nTo be fully credentialed\, you will need to take at least one specialized class after you have taken the prerequisite course of “Introduction to Southern Baptist Disaster Relief.” \n7:30 a.m. – 8:00 a.m.             Registration \n8:00 a.m. – 10:00 a.m.          Introduction to Disaster Relief \n10:00 a.m. – 10:15 p.m.         Break \n10:15 p.m. – 11:45 p.m.          Flood Recovery \n11:45 p.m. – 12:15 p.m.            Lunch – provided free of charge \n12:15 p.m. – 1:45 p.m.             Rebuild \n  \nRegistration Forms \nDisaster Relief volunteers can now download the following forms to their computers and fill them out and bring them to the training. By typing these forms\, it saves time with data entry and increasing accuracy of keeping your records. \nUse this link to find the forms: https://tndisasterrelief.org/registration-forms/
URL:https://tndisasterrelief.org/event/introduction-to-disaster-relief-flood-recovery-and-rebuild-strawberry-plains-east-tn/
LOCATION:Lyon’s Creek Baptist Church\, 9235 Strawberry Plains Pike\, Strawberry Plains\, TN\, 37871\, United States
CATEGORIES:Intro to DR,Specialized,Training
END:VEVENT
BEGIN:VEVENT
DTSTART;TZID=UTC:20240928T074500
DTEND;TZID=UTC:20240928T160000
DTSTAMP:20260421T113917
CREATED:20240503T203755Z
LAST-MODIFIED:20240926T164450Z
UID:14946-1727509500-1727539200@tndisasterrelief.org
SUMMARY:POSTPONED DUE TO WEATHER - Hands-On Specialized Classes - Mount Juliet (Middle TN)
DESCRIPTION:September 28\, 2024 – Missions Mobilization Center\, 6434 John Hagar Road\, Mt. Juliet\, TN\, 37122.  \nTo pre-register for this class\, REGISTER ONLINE – click here. For questions\, contact Elizabeth Holmes at eholmes@tnbaptist.org.  \nPlease preregister by Monday\, September 23\, 2024\, for the meal count. \nYou must be current with your Disaster Relief credentials. Depending on which course you take\, you may need current classroom training. \nClasses being offered are: \n\nBucket Truck Classroom and Hands-On Training (all day) – includes test – Must have current Chainsaw Operations & Safety classroom training OR\nChainsaw Hands-On Training (morning class or afternoon class) – Must have current Chainsaw Operations & Safety classroom training (Please bring your own  chainsaw and PPE.) OR\nChainsaw Repair & Maintenance – Must have current Chainsaw Operations & Safety classroom training (Please bring a chainsaw\, basic toolset\, and manual\,if available.  This will be a hands-on class and you will be taking your chainsaw apart for the various maintenance tasks.) OR\nForklift/Skid Steer Classroom (1 1/2 hours) and Hands-On Training (1 1/2 – 3 hours depending on class size) – includes test OR\nMass Feeding Hands-On Training (all day) – Must have current Mass Feeding classroom training\n\nLunch – $5 person (prepared by the Mass Feeding Hands-On Class) \nClick link for the agenda – 2024 Hands-On Specialized Training – September 28 – MMC \nRegistration Forms \nDisaster Relief volunteers can now download the following forms to their computers and fill them out and bring them with you to training. By typing these forms\, you are helping us save time with data entry and increasing our accuracy of keeping your records. \nUse this link to fill out the Record of Volunteer Training form.
URL:https://tndisasterrelief.org/event/hands-on-specialized-classes-mount-juliet-middle-tn/
LOCATION:Missions Mobilization Center\, 6434 John Hagar Road\, Mt. Juliet\, TN\, United States
CATEGORIES:Specialized,Training
END:VEVENT
END:VCALENDAR