BEGIN:VCALENDAR
VERSION:2.0
PRODID:-//Tennessee Baptist Disaster Relief - ECPv6.15.20//NONSGML v1.0//EN
CALSCALE:GREGORIAN
METHOD:PUBLISH
X-ORIGINAL-URL:https://tndisasterrelief.org
X-WR-CALDESC:Events for Tennessee Baptist Disaster Relief
REFRESH-INTERVAL;VALUE=DURATION:PT1H
X-Robots-Tag:noindex
X-PUBLISHED-TTL:PT1H
BEGIN:VTIMEZONE
TZID:America/Chicago
BEGIN:DAYLIGHT
TZOFFSETFROM:-0600
TZOFFSETTO:-0500
TZNAME:CDT
DTSTART:20230312T080000
END:DAYLIGHT
BEGIN:STANDARD
TZOFFSETFROM:-0500
TZOFFSETTO:-0600
TZNAME:CST
DTSTART:20231105T070000
END:STANDARD
BEGIN:DAYLIGHT
TZOFFSETFROM:-0600
TZOFFSETTO:-0500
TZNAME:CDT
DTSTART:20240310T080000
END:DAYLIGHT
BEGIN:STANDARD
TZOFFSETFROM:-0500
TZOFFSETTO:-0600
TZNAME:CST
DTSTART:20241103T070000
END:STANDARD
BEGIN:DAYLIGHT
TZOFFSETFROM:-0600
TZOFFSETTO:-0500
TZNAME:CDT
DTSTART:20250309T080000
END:DAYLIGHT
BEGIN:STANDARD
TZOFFSETFROM:-0500
TZOFFSETTO:-0600
TZNAME:CST
DTSTART:20251102T070000
END:STANDARD
END:VTIMEZONE
BEGIN:VTIMEZONE
TZID:UTC
BEGIN:STANDARD
TZOFFSETFROM:+0000
TZOFFSETTO:+0000
TZNAME:UTC
DTSTART:20230101T000000
END:STANDARD
END:VTIMEZONE
BEGIN:VEVENT
DTSTART;TZID=America/Chicago:20240308T080000
DTEND;TZID=America/Chicago:20240309T170000
DTSTAMP:20260421T210954
CREATED:20230607T122717Z
LAST-MODIFIED:20240227T221454Z
UID:10263-1709884800-1710003600@tndisasterrelief.org
SUMMARY:East TN Regional Disaster Relief Training
DESCRIPTION:March 8\, 2024@5:30 pm–March 9\, 2024@3:00 pm\n\n\n\n\nMarch 8-9\, 2024 – Grace Baptist Church\, 7171 Oak Ridge Highway\, Knoxville\, TN 37931.  To pre-register for this class\, REGISTER ONLINE – click here.  For questions\, contact Elizabeth Holmes at eholmes@tnbaptist.org or (615) 371-7926. \nPlease pre-register by Monday\, March 4\, so that we can supply you with the proper training materials and/or lunch count on Saturday. \nThe credentialing fee is $40. This fee will cover not only the cost of the ID\, hat\, background check\, and membership pin\, but also the cost of any of the basic training courses a volunteer wants to take over the next 3 years. \nTo be fully credentialed\, you will need to take at least one specialized class after you have taken the prerequisite course of “Introduction to Southern Baptist Disaster Relief.” \nREGISTER ONLINE – click here.\n2024 Regional Training Agenda – East – click here\n\n  \nRegistration Forms \nDisaster Relief Volunteers can now download the following forms to their computers and fill them out and bring them with you to training or send them to the DR office. By typing these forms\, you are helping us save time with data entry and increasing our accuracy of keeping your records. \nUse this link to find the forms: https://tndisasterrelief.org/registration-forms/
URL:https://tndisasterrelief.org/event/tentative-2024-east-tn-regional-disaster-relief-training/
LOCATION:Grace Baptist Church\, Knoxville\, 7171 Oak Ridge Highway\, Knoxville\, TN\, 37931\, United States
CATEGORIES:Chaplaincy,Intro to DR,Regional,Specialized,Training
END:VEVENT
BEGIN:VEVENT
DTSTART;TZID=UTC:20240316T073000
DTEND;TZID=UTC:20240316T143000
DTSTAMP:20260421T210954
CREATED:20240228T164248Z
LAST-MODIFIED:20240228T165222Z
UID:14929-1710574200-1710599400@tndisasterrelief.org
SUMMARY:Introduction to Disaster Relief\, Chainsaw\, Flood Recovery\, and Shower/Laundry - Gallatin (Middle TN)
DESCRIPTION:March 16\, 2024 – First Baptist Church\, 205 E. Main Street\, Gallatin\, TN 37066. To pre-register for this class\, contact Chuck Thacker at cft501@aol.com or (615) 390-1052 with your names and classes desired or register online. \nPlease pre-register by Monday\, March 11\, so that we can supply you with the proper training materials and/or lunch count on Saturday. \nThe credentialing fee is $40 . This fee will cover not only the cost of the ID\, hat\, background check\, and membership pin\, but also the cost of any of the basic training courses a volunteer wants to take over the next 3 years. \nTo be fully credentialed\, you will need to take at least one specialized class after you have taken the prerequisite course of “Introduction to Southern Baptist Disaster Relief.” \n7:30 AM – 8:00AM: Registration \n8:00 AM – 10:00 AM: Introduction to Disaster Relief (2 hours) \n10:00 AM – 10:15 AM: Break \n10:15 AM – 12:15 PM: Chainsaw Operation & Safety\n10:15 AM – 12:15 PM: Flood Recovery \n12:15 PM – 1:00 PM:  Lunch – $6/person\n \n1:00 PM – 2:30 PM: Shower/Laundry \nRegistration Forms \nDisaster Relief volunteers can now download the following forms to their computers and fill them out and bring them to the training. By typing these forms\, it saves time with data entry and increasing accuracy of keeping your records. \nUse this link to find the forms: https://tndisasterrelief.org/registration-forms/
URL:https://tndisasterrelief.org/event/introtodr-cs-fr-sl-gallatin-2024/
LOCATION:Gallatin\, First Baptist Church
CATEGORIES:Intro to DR,Specialized,Training
END:VEVENT
END:VCALENDAR