BEGIN:VCALENDAR
VERSION:2.0
PRODID:-//Tennessee Baptist Disaster Relief - ECPv6.15.20//NONSGML v1.0//EN
CALSCALE:GREGORIAN
METHOD:PUBLISH
X-ORIGINAL-URL:https://tndisasterrelief.org
X-WR-CALDESC:Events for Tennessee Baptist Disaster Relief
REFRESH-INTERVAL;VALUE=DURATION:PT1H
X-Robots-Tag:noindex
X-PUBLISHED-TTL:PT1H
BEGIN:VTIMEZONE
TZID:America/Chicago
BEGIN:DAYLIGHT
TZOFFSETFROM:-0600
TZOFFSETTO:-0500
TZNAME:CDT
DTSTART:20220313T080000
END:DAYLIGHT
BEGIN:STANDARD
TZOFFSETFROM:-0500
TZOFFSETTO:-0600
TZNAME:CST
DTSTART:20221106T070000
END:STANDARD
BEGIN:DAYLIGHT
TZOFFSETFROM:-0600
TZOFFSETTO:-0500
TZNAME:CDT
DTSTART:20230312T080000
END:DAYLIGHT
BEGIN:STANDARD
TZOFFSETFROM:-0500
TZOFFSETTO:-0600
TZNAME:CST
DTSTART:20231105T070000
END:STANDARD
BEGIN:DAYLIGHT
TZOFFSETFROM:-0600
TZOFFSETTO:-0500
TZNAME:CDT
DTSTART:20240310T080000
END:DAYLIGHT
BEGIN:STANDARD
TZOFFSETFROM:-0500
TZOFFSETTO:-0600
TZNAME:CST
DTSTART:20241103T070000
END:STANDARD
END:VTIMEZONE
BEGIN:VTIMEZONE
TZID:UTC
BEGIN:STANDARD
TZOFFSETFROM:+0000
TZOFFSETTO:+0000
TZNAME:UTC
DTSTART:20220101T000000
END:STANDARD
END:VTIMEZONE
BEGIN:VEVENT
DTSTART;TZID=America/Chicago:20231106T180000
DTEND;TZID=America/Chicago:20231106T210000
DTSTAMP:20260422T033905
CREATED:20231005T111406Z
LAST-MODIFIED:20231030T041924Z
UID:10334-1699293600-1699304400@tndisasterrelief.org
SUMMARY:Introduction to Disaster Relief - Kingsport (East TN)
DESCRIPTION:November 6\, 2023 – Grace Point Fellowship \, 130 VFW Road\, Kingsport\, TN 37663. To pre-register for this class\, go to https://tithe.ly/event-registration/#/7868997; for questions\, contact Jim Ramey at jimlramey@centurylink.net.  \nPlease pre-register by Monday\, October 30\, so that we can supply you with the proper training materials and/or meal count. \nThe credentialing fee is $40 (effective January 1\, 2023). This fee will cover not only the cost of the ID\, hat\, background check\, and membership pin\, but also the cost of any of the basic training courses a volunteer wants to take over the next 3 years. \nTo be fully credentialed\, you will need to take at least one specialized class after you have taken the prerequisite course of “Introduction to Southern Baptist Disaster Relief.” \n6:00 p.m. – 7:00 p.m.    Registration \n7:00 p.m. – 9:00 p.m.    Introduction to Disaster Relief (2-hour class) \nRegistration Forms \nDisaster Relief volunteers can now download the following forms to their computers and fill them out and bring them with you to training. By typing these forms\, you are helping us save time with data entry and increasing our accuracy of keeping your records. \nUse this link to find the forms: https://tndisasterrelief.org/registration-forms/
URL:https://tndisasterrelief.org/event/introduction-to-disaster-relief-kingsport-east-tn-2/
LOCATION:Grace Point Fellowship\, Kingsport\, 130 VFW Road\, Kingsport\, TN\, 37663\, United States
CATEGORIES:Intro to DR,Training
ATTACH;FMTTYPE=image/webp:https://tndisasterrelief.org/wp-content/uploads/2020/12/logo-class-intro-med.webp
END:VEVENT
BEGIN:VEVENT
DTSTART;TZID=America/Chicago:20231107T173000
DTEND;TZID=America/Chicago:20231107T213000
DTSTAMP:20260422T033905
CREATED:20231005T111605Z
LAST-MODIFIED:20231013T044606Z
UID:10336-1699378200-1699392600@tndisasterrelief.org
SUMMARY:Chainsaw Operation & Safety or Mass Feeding - Kingsport (East TN)
DESCRIPTION:November 7\, 2023 – Grace Point Fellowship \, 130 VFW Road\, Kingsport\, TN 37663. To pre-register for this class\, go to https://tithe.ly/event-registration/#/7869020; for questions\, contact Jim Ramey at jimlramey@centurylink.net.  \nPlease pre-register by Monday\, October 30\, so that we can supply you with the proper training materials and/or meal count. \nThe credentialing fee is $40 (effective January 1\, 2023). This fee will cover not only the cost of the ID\, hat\, background check\, and membership pin\, but also the cost of any of the basic training courses a volunteer wants to take over the next 3 years. \nTo be fully credentialed\, you will need to take at least one specialized class after you have taken the prerequisite course of “Introduction to Southern Baptist Disaster Relief.” \n5:30 p.m. – 6:30 p.m.    Registration \n6:30 p.m. – 8:00 p.m.    Chainsaw Operation & Safety classroom (1 1/2-hour class) \nOR \n6:30 p.m. – 9:30 p.m.     Mass Feeding (3-hour class) \nRegistration Forms \nDisaster Relief volunteers can now download the following forms to their computers and fill them out and bring them with you to training or send them to the DR office. By typing these forms\, you are helping us save time with data entry and increasing our accuracy of keeping your records. \nUse this link to find the forms: https://tndisasterrelief.org/registration-forms/
URL:https://tndisasterrelief.org/event/chainsaw-operation-safety-or-mass-feeding-kingsport-east-tn/
LOCATION:Grace Point Fellowship\, Kingsport\, 130 VFW Road\, Kingsport\, TN\, 37663\, United States
CATEGORIES:Specialized,Training
END:VEVENT
BEGIN:VEVENT
DTSTART;TZID=UTC:20231111T074500
DTEND;TZID=UTC:20231111T141500
DTSTAMP:20260422T033905
CREATED:20231013T045043Z
LAST-MODIFIED:20231031T043536Z
UID:14715-1699688700-1699712100@tndisasterrelief.org
SUMMARY:Introduction to Disaster Relief\, Chainsaw Operation & Safety\, and Flood Recovery - Mt. Juliet (Middle TN)
DESCRIPTION:November 11\, 2023 – The Glade Church\, 9000 Stewarts Ferry Pk\, Mt. Juliet\, TN 37122.  To pre-register for this class\, contact the church at mtaylor@gladevillechurch.org with your names and classes desired. \nPlease pre-register by Monday\, November 6\, so that we can supply you with the proper training materials and/or lunch count on Saturday. \nThe credentialing fee is $40 (effective January 1\, 2023). This fee will cover not only the cost of the ID\, hat\, background check\, and membership pin\, but also the cost of any of the basic training courses a volunteer wants to take over the next 3 years. \nTo be fully credentialed\, you will need to take at least one specialized class after you have taken the prerequisite course of “Introduction to Southern Baptist Disaster Relief.” \n7:45 AM – 8:15 AM        Registration/Badge Pictures to be Taken \n8:15 AM -10:15 AM       Introduction to Disaster Relief (2 hr.) \n10:15 AM -10:30 AM    Break \n10:30 AM – 12:00 PM  Flood Recovery \n12:00 PM – 12:45 PM   Lunch – $6/person – Registration/Badge Pictures to be Taken \n12:45 PM – 2:15 PM      Chainsaw Operation & Safety (Classroom) \nRegistration Forms \nDisaster Relief volunteers can now download the following forms to their computers and fill them out and bring them with you to training. By typing these forms\, you are helping us save time with data entry and increasing our accuracy of keeping your records. \nUse this link to find the forms: https://tndisasterrelief.org/registration-forms/
URL:https://tndisasterrelief.org/event/introduction-to-disaster-relief-chainsaw-operation-safety-and-flood-recovery-mt-juliet-middle-tn/
LOCATION:The Glade Church\, Mt. Juliet\, 9000 Stewarts Ferry Pike\, Mt. Juliet\, TN\, 37122\, United States
CATEGORIES:Intro to DR,Specialized,Training
ATTACH;FMTTYPE=image/webp:https://tndisasterrelief.org/wp-content/uploads/2020/12/logo-class-intro-med.webp
END:VEVENT
END:VCALENDAR