BEGIN:VCALENDAR
VERSION:2.0
PRODID:-//Tennessee Baptist Disaster Relief - ECPv6.15.20//NONSGML v1.0//EN
CALSCALE:GREGORIAN
METHOD:PUBLISH
X-ORIGINAL-URL:https://tndisasterrelief.org
X-WR-CALDESC:Events for Tennessee Baptist Disaster Relief
REFRESH-INTERVAL;VALUE=DURATION:PT1H
X-Robots-Tag:noindex
X-PUBLISHED-TTL:PT1H
BEGIN:VTIMEZONE
TZID:America/Chicago
BEGIN:DAYLIGHT
TZOFFSETFROM:-0600
TZOFFSETTO:-0500
TZNAME:CDT
DTSTART:20220313T080000
END:DAYLIGHT
BEGIN:STANDARD
TZOFFSETFROM:-0500
TZOFFSETTO:-0600
TZNAME:CST
DTSTART:20221106T070000
END:STANDARD
BEGIN:DAYLIGHT
TZOFFSETFROM:-0600
TZOFFSETTO:-0500
TZNAME:CDT
DTSTART:20230312T080000
END:DAYLIGHT
BEGIN:STANDARD
TZOFFSETFROM:-0500
TZOFFSETTO:-0600
TZNAME:CST
DTSTART:20231105T070000
END:STANDARD
BEGIN:DAYLIGHT
TZOFFSETFROM:-0600
TZOFFSETTO:-0500
TZNAME:CDT
DTSTART:20240310T080000
END:DAYLIGHT
BEGIN:STANDARD
TZOFFSETFROM:-0500
TZOFFSETTO:-0600
TZNAME:CST
DTSTART:20241103T070000
END:STANDARD
END:VTIMEZONE
BEGIN:VEVENT
DTSTART;TZID=America/Chicago:20230909T073000
DTEND;TZID=America/Chicago:20230909T160000
DTSTAMP:20260422T065823
CREATED:20230320T143831Z
LAST-MODIFIED:20240228T070350Z
UID:10221-1694244600-1694275200@tndisasterrelief.org
SUMMARY:Hands-on Specialized Classes - Mt. Juliet (Middle)
DESCRIPTION:September 9\, 2023 – Missions Mobilization Center\, 6434 John Hagar Road\, Mt. Juliet\, TN\, 37122.  \nTo pre-register for this class\, REGISTER ONLINE – click here. For questions\, contact Elizabeth Holmes at eholmes@tnbaptist.org.  \nPlease preregister by Monday\, September 4\, 2023\, for the meal count. \nYou must be current with your Disaster Relief credentials. Depending on which course you take\, you may need current classroom training. \nClasses being offered are: \n\nBucket Truck Classroom and Hands-On Training (all day) – includes test – Must have current Chainsaw Operations & Safety classroom training OR\nChainsaw Hands-On Training (morning class or afternoon class) – Must have current Chainsaw Operations & Safety classroom training OR\nChainsaw Repair & Maintenance – Must have current Chainsaw Operations & Safety classroom training (Please bring a chainsaw\, basic toolset\, and manual\,if available.  This will be a hands-on class and you will be taking your chainsaw apart for the various maintenance tasks.) OR\nForklift/Skid Steer Classroom (1 1/2 hours) and Hands-On Training (1 1/2 – 3 hours depending on class size) – includes test OR\nMass Feeding Hands-On Training (all day) – Must have current Mass Feeding classroom training\n\nLunch – $5 person (prepared by the Mass Feeding Hands-On Class) \nClick link for the agenda – 2023-Hands-On-Specialized-Training-Sept 9 – MMC \nRegistration Forms \nDisaster Relief volunteers can now download the following forms to their computers and fill them out and bring them with you to training. By typing these forms\, you are helping us save time with data entry and increasing our accuracy of keeping your records. \nUse this link to fill out the Record of Volunteer Training form.
URL:https://tndisasterrelief.org/event/hands-on-specialized-classes-mt-juliet-middle-5/
LOCATION:Missions Mobilization Center\, 6434 John Hagar Road\, Mt. Juliet\, TN\, United States
CATEGORIES:Specialized,Training
END:VEVENT
BEGIN:VEVENT
DTSTART;TZID=America/Chicago:20230916T074500
DTEND;TZID=America/Chicago:20230916T143000
DTSTAMP:20260422T065823
CREATED:20230608T094349Z
LAST-MODIFIED:20231019T054405Z
UID:10247-1694850300-1694874600@tndisasterrelief.org
SUMMARY:Introduction to Disaster Relief\, Flood Recovery\, and Chainsaw Operation & Safety - Germantown (West TN)
DESCRIPTION:September 16\, 2023 – Germantown Baptist Church 9450 Poplar Avenue\, Germantown\, TN 38139. To pre-register for this class\, REGISTER ONLINE – click here.  For questions\, contact Elizabeth Holmes at eholmes@tnbaptist.org or (615) 371-7926.   \nPlease pre-register by Monday\, September 11\, so that we can supply you with the proper training materials and/or lunch count on Saturday. \nThe credentialing fee is $40 (effective January 1\, 2023). This fee will cover not only the cost of the ID\, hat\, background check\, and membership pin\, but also the cost of any of the basic training courses a volunteer wants to take over the next 3 years. \nTo be fully credentialed\, you will need to take at least one specialized class after you have taken the prerequisite course of “Introduction to Southern Baptist Disaster Relief.” \n7:45 a.m. – 8:15 a.m.      Registration \n8:15 a.m. – 10:15 a.m.    Introduction to Disaster Relief (2-hour class) \n10:15 a.m. – 10:30 a.m.  Break \n10:30 a.m. – 12:00 p.m.  Flood Recovery \n12:00 p.m. – 1:00 p.m.    Lunch (free for the first 50 people who pre-register) \n1:00 p.m. – 2:30 p.m.      Chainsaw Operation & Safety \n  \nRegistration Forms \nDisaster Relief volunteers can now download the following forms to their computers and fill them out and bring them with you to training. By typing these forms\, you are helping us save time with data entry and increasing our accuracy of keeping your records. \nUse this link to find the forms: https://tndisasterrelief.org/registration-forms/
URL:https://tndisasterrelief.org/event/introduction-to-disaster-relief-flood-recovery-and-chainsaw-operation-safety-germantown-west-tn/
LOCATION:Germantown Baptist Church\, Germantown\, 9450 Poplar Avenue\, Germantown\, TN\, 38139\, United States
CATEGORIES:Intro to DR,Specialized,Training
ATTACH;FMTTYPE=image/webp:https://tndisasterrelief.org/wp-content/uploads/2020/12/logo-class-intro-med.webp
END:VEVENT
BEGIN:VEVENT
DTSTART;TZID=America/Chicago:20230919T170000
DTEND;TZID=America/Chicago:20230919T211500
DTSTAMP:20260422T065823
CREATED:20230830T090345Z
LAST-MODIFIED:20231019T054257Z
UID:10315-1695142800-1695158100@tndisasterrelief.org
SUMMARY:Introduction to Disaster Relief and Shower/Laundry - Butler (Upper East TN)
DESCRIPTION:September 19\, 2023 – Sugar Grove Baptist Church\, 925 Sugar Grove Church Rd\, Butler\, TN 37640.  To pre-register for this class\, contact Bill Stover at sisbull@gmail.com or (423) 943-4244 with your names and classes desired. \nPlease pre-register by Tuesday\, September 12\, so that we can supply you with the proper training materials. \nThe credentialing fee is $40 (effective January 1\, 2023). This fee will cover not only the cost of the ID\, hat\, background check\, and membership pin\, but also the cost of any of the basic training courses a volunteer wants to take over the next 3 years. \nTo be fully credentialed\, you will need to take at least one specialized class after you have taken the prerequisite course of “Introduction to Southern Baptist Disaster Relief.” \n5:00 PM – 5:30 PM: Registration \n5:30 PM – 7:30 PM: Introduction to Disaster Relief (2 hours) \n7:30 PM – 7:45 PM: Break \n7:45 PM – 9:15 PM: Shower/Laundry\n \nRegistration Forms \nDisaster Relief volunteers can now download the following forms to their computers and fill them out and bring them to the training. By typing these forms\, it saves time with data entry and increasing accuracy of keeping your records. \nUse this link to find the forms: https://tndisasterrelief.org/registration-forms/
URL:https://tndisasterrelief.org/event/introduction-to-disaster-relief-and-shower-laundry-butler-upper-east-tn/
LOCATION:Sugar Grove Baptist Church\, 925 Sugar Grove Church Rd\, Butler\, TN\, 37640\, United States
CATEGORIES:Intro to DR,Specialized,Training
ATTACH;FMTTYPE=image/webp:https://tndisasterrelief.org/wp-content/uploads/2020/12/logo-class-intro-med.webp
END:VEVENT
BEGIN:VEVENT
DTSTART;TZID=America/Chicago:20230930T074500
DTEND;TZID=America/Chicago:20230930T143000
DTSTAMP:20260422T065823
CREATED:20230511T110334Z
LAST-MODIFIED:20231019T054520Z
UID:10242-1696059900-1696084200@tndisasterrelief.org
SUMMARY:Introduction to Disaster Relief/Chainsaw/Flood Recovery - Hendersonville (Middle)
DESCRIPTION:September 30\, 2023 – Long Hollow Baptist Church (Student Building)\, 3031 Long Hollow Pike\, Hendersonville\, TN 37075. For questions\, contact Elizabeth Holmes  at eholmes@tnbaptist.org. \nTo pre-register for this class\, click here.  \nPlease pre-register by Monday\, September 25\, so that we can supply you with the proper training materials and/or lunch count on Saturday. \nThe credentialing fee is $40 (effective January 1\, 2023). This fee will cover not only the cost of the ID\, hat\, background check\, and membership pin\, but also the cost of any of the basic training courses a volunteer wants to take over the next 3 years. \nTo be fully credentialed\, you will need to take at least one specialized class after you have taken the prerequisite course of “Introduction to Southern Baptist Disaster Relief.” \n7:45 a.m. – 8:15 a.m.      Registration \n8:15 a.m. – 10:15 a.m.    Introduction to Disaster Relief (2-hour class) \n10:15 a.m. – 10:30 a.m.  Break \n10:30 a.m. – 12:00 p.m.  Chainsaw Operation & Safety \n12:00 p.m. – 1:00 p.m.    Lunch ($6/person for those who paid during preregistration) \n1:00 p.m. – 2:30 p.m.      Flood Recovery \nRegistration Forms \nDisaster Relief volunteers can now download the following forms to their computers and fill them out and bring them with you to training. By typing these forms\, you are helping us save time with data entry and increasing our accuracy of keeping your records. \nUse this link to find the forms: https://tndisasterrelief.org/registration-forms/
URL:https://tndisasterrelief.org/event/introduction-to-disaster-relief-chainsaw-flood-recovery-hendersonville-middle/
LOCATION:Long Hollow Baptist Church\, 3031 Long Hollow Pike\, Hendersonville\, TN\, 37075\, United States
CATEGORIES:Intro to DR,Specialized,Training
ATTACH;FMTTYPE=image/webp:https://tndisasterrelief.org/wp-content/uploads/2020/12/logo-class-intro-med.webp
END:VEVENT
END:VCALENDAR