BEGIN:VCALENDAR
VERSION:2.0
PRODID:-//Tennessee Baptist Disaster Relief - ECPv6.15.20//NONSGML v1.0//EN
CALSCALE:GREGORIAN
METHOD:PUBLISH
X-ORIGINAL-URL:https://tndisasterrelief.org
X-WR-CALDESC:Events for Tennessee Baptist Disaster Relief
REFRESH-INTERVAL;VALUE=DURATION:PT1H
X-Robots-Tag:noindex
X-PUBLISHED-TTL:PT1H
BEGIN:VTIMEZONE
TZID:America/Chicago
BEGIN:DAYLIGHT
TZOFFSETFROM:-0600
TZOFFSETTO:-0500
TZNAME:CDT
DTSTART:20200308T080000
END:DAYLIGHT
BEGIN:STANDARD
TZOFFSETFROM:-0500
TZOFFSETTO:-0600
TZNAME:CST
DTSTART:20201101T070000
END:STANDARD
BEGIN:DAYLIGHT
TZOFFSETFROM:-0600
TZOFFSETTO:-0500
TZNAME:CDT
DTSTART:20210314T080000
END:DAYLIGHT
BEGIN:STANDARD
TZOFFSETFROM:-0500
TZOFFSETTO:-0600
TZNAME:CST
DTSTART:20211107T070000
END:STANDARD
BEGIN:DAYLIGHT
TZOFFSETFROM:-0600
TZOFFSETTO:-0500
TZNAME:CDT
DTSTART:20220313T080000
END:DAYLIGHT
BEGIN:STANDARD
TZOFFSETFROM:-0500
TZOFFSETTO:-0600
TZNAME:CST
DTSTART:20221106T070000
END:STANDARD
END:VTIMEZONE
BEGIN:VEVENT
DTSTART;TZID=America/Chicago:20210123T080000
DTEND;TZID=America/Chicago:20210123T160000
DTSTAMP:20260422T043654
CREATED:20201204T115051Z
LAST-MODIFIED:20231012T073731Z
UID:9631-1611388800-1611417600@tndisasterrelief.org
SUMMARY:Introduction to Disaster Relief and Specialized Classes - Morristown (East TN)
DESCRIPTION:January 23\, 2021 – Alpha Baptist Church\, 245 Saint Johns Rd \, Morristown. To pre-register for this class\, contact Don Owen at dnowen@bellsouth.netwith your names and classes desired.   (Hosted by Nolachucky Baptist Association)  Masks are required while on campus. \nPlease preregister by Tuesday\, January 19\, so that we can supply you with the proper training materials. \nThe credentialing fee is $36. This fee will cover not only the cost of the ID and background check but also the cost of any of the basic training courses a volunteer wants to take over the next 3 years. \nIn order to be fully credentialed\, you will need to take at least one specialized class after you have taken the prerequisite course of “Introduction to Southern Baptist Disaster Relief.” \n8:00 AM – 9:00 AM Registration \n9:00 AM – 10:30 AM Flood Recovery \n9:00 AM – 11:00 AM  Introduction/Recertification to Disaster Relief (2 hr. class) \n9:00 AM – 12:00 PM FormStack (3 hr. class) (Bring cellphone or computer) \n9:00 AM – 12:00 PM Spiritual Preparation/Evangelism (3 hr. class)* – (needs to be taken with other courses besides Intro to DR as you will not be certified with just this class as we do not do callouts on this class. This is for personal spiritual preparation before a callout.) \n10:30 AM – 10:45 AM  Break \n10:45 AM – 12:15 PM  Chainsaw Operation & Safety (Classroom) \n10:45 AM – 12:15 PM  Forklift Operation & Safety/Skid steer (Classroom) \n12:15 PM – 1:00 PM  Lunch – $6/person \n1:00 PM – 2:30 PM Chainsaw Operation & Safety (Classroom) \n1:00 PM – 2:30 PM  Damage Assessment \n1:00 PM – 2:30 PM Forklift Operation & Safety/Skid steer (Classroom) \n1:00 PM – 2:30 PM Rebuild \n1:00 PM – 4:00 PM Mass Feeding (3 hr. class) \n2:30 PM – 2:45 PM  Break \nRegistration Forms \nDisaster Relief volunteers can now download the following forms to their computers and fill them out and bring them with you to training or send them to the DR office. By typing these forms\, you are helping us save time with data entry and increasing our accuracy of keeping your records. \nUse this link to find the forms: https://tndisasterrelief.org/registration-forms/
URL:https://tndisasterrelief.org/event/introduction-to-disaster-relief-and-specialized-classes-morristown-east-tn/
CATEGORIES:Intro to DR,Specialized,Training
ATTACH;FMTTYPE=image/webp:https://tndisasterrelief.org/wp-content/uploads/2020/12/logo-class-special-med-1.webp
END:VEVENT
END:VCALENDAR