BEGIN:VCALENDAR
VERSION:2.0
PRODID:-//Tennessee Baptist Disaster Relief - ECPv6.15.20//NONSGML v1.0//EN
CALSCALE:GREGORIAN
METHOD:PUBLISH
X-ORIGINAL-URL:https://tndisasterrelief.org
X-WR-CALDESC:Events for Tennessee Baptist Disaster Relief
REFRESH-INTERVAL;VALUE=DURATION:PT1H
X-Robots-Tag:noindex
X-PUBLISHED-TTL:PT1H
BEGIN:VTIMEZONE
TZID:UTC
BEGIN:STANDARD
TZOFFSETFROM:+0000
TZOFFSETTO:+0000
TZNAME:UTC
DTSTART:20250101T000000
END:STANDARD
END:VTIMEZONE
BEGIN:VEVENT
DTSTART;TZID=UTC:20260425T070000
DTEND;TZID=UTC:20260425T143000
DTSTAMP:20260421T122121
CREATED:20260330T185800Z
LAST-MODIFIED:20260330T190139Z
UID:15912-1777100400-1777127400@tndisasterrelief.org
SUMMARY:Introduction to Disaster Relief\, Chainsaw Operation & Safety\, and Flood Recovery - Gallatin (Middle TN)
DESCRIPTION:April 25\, 2026 – First Baptist Church\, 205 E. Main Street\, Gallatin\, TN 37066. To pre-register for this class\, contact Chuck Thacker at cft501@aol.com or (615) 390-1052 with your names and classes desired. \nPlease pre-register by Monday\, April 21\, so that we can supply you with the proper training materials and/or lunch count on Saturday. \nThe credentialing fee is $40 (CASH or CHECK ONLY) . This fee will cover not only the cost of the ID\, hat\, background check\, and membership pin\, but also the cost of any of the basic training courses a volunteer wants to take over the next 3 years. \nTo be fully credentialed\, you will need to take at least one specialized class after you have taken the prerequisite course of “Introduction to Southern Baptist Disaster Relief.” \n7:00 a.m. – 8:00 a.m.: Registration \n8:00 a.m. – 10:00 a.m.: Introduction to Disaster Relief (2 hours) \n10:00 a.m. – 10:15 a.m.: Break \n10:15 a.m. – 12:15 p.m.: Chainsaw Operation & Safety (2 hours) \n12:15 p.m. – 1:00 p.m.:  Lunch – $10/person\n \n1:00 p.m. – 2:30 p.m.: Flood Recovery (1 1/2 hours) \nRegistration Forms \nDisaster Relief volunteers can now download the following forms to their computers and fill them out and bring them to the training. By typing these forms\, it saves time with data entry and increasing accuracy of keeping your records. \nUse this link to find the forms: https://tndisasterrelief.org/registration-forms/
URL:https://tndisasterrelief.org/event/introduction-to-disaster-relief-chainsaw-operation-safety-and-flood-recovery-gallatin-middle-tn/
LOCATION:Gallatin\, First Baptist Church
CATEGORIES:Intro to DR,Specialized,Training
ATTACH;FMTTYPE=image/webp:https://tndisasterrelief.org/wp-content/uploads/2025/08/IntroSpecClasses-logo-gold.webp
END:VEVENT
END:VCALENDAR