BEGIN:VCALENDAR
VERSION:2.0
PRODID:-//Tennessee Baptist Disaster Relief - ECPv6.15.20//NONSGML v1.0//EN
CALSCALE:GREGORIAN
METHOD:PUBLISH
X-ORIGINAL-URL:https://tndisasterrelief.org
X-WR-CALDESC:Events for Tennessee Baptist Disaster Relief
REFRESH-INTERVAL;VALUE=DURATION:PT1H
X-Robots-Tag:noindex
X-PUBLISHED-TTL:PT1H
BEGIN:VTIMEZONE
TZID:UTC
BEGIN:STANDARD
TZOFFSETFROM:+0000
TZOFFSETTO:+0000
TZNAME:UTC
DTSTART:20240101T000000
END:STANDARD
END:VTIMEZONE
BEGIN:VEVENT
DTSTART;TZID=UTC:20251018T073000
DTEND;TZID=UTC:20251018T161500
DTSTAMP:20260421T215953
CREATED:20250826T185738Z
LAST-MODIFIED:20250917T151210Z
UID:15348-1760772600-1760804100@tndisasterrelief.org
SUMMARY:Introduction to Disaster Relief\, Chainsaw Operation & Safety\, Flood Recovery\, Shower/Laundry\, and Rebuild - Maryville (East TN)
DESCRIPTION:October 18\, 2025 – Foothills Baptist Church\, 1551 W. Lamar Alexander Pkwy\, Maryville\, TN 37801. To pre-register for this class\, contact the church at operations@foothillschurch.com with your names and classes desired. \nPlease pre-register by Monday\, October 13\, so that we can supply you with the proper training materials and/or lunch count on Saturday. \nThe credentialing fee is $40. This fee will cover not only the cost of the ID\, hat\, background check\, and membership pin\, but also the cost of any of the basic training courses a volunteer wants to take over the next 3 years. \nPLEASE bring exact cash or check made payable to: TBMB or Tennessee Baptist Mission Board along with your registration forms to make registration move more smoothly and faster. See link below for registration forms. \nTo be fully credentialed\, you will need to take at least one specialized class after you have taken the prerequisite course of “Introduction to Southern Baptist Disaster Relief.” \n7:30 – 8:00 a.m.                 Registration \n8:00 – 10:00 a.m.               Introduction to Disaster Relief (2 hour class) \n10:00  – 10:15 a.m.            Break \n10:15 a.m. – 12:15 p.m.    Chainsaw Operation & Safety (2-hour class) \n10:15 a.m. – 12:15 p.m.    Shower/Laundry Class (2-hour class) \n12:15 – 1:00 p.m.               Lunch – $10/person \n1:00 – 2:30 p.m.                 Flood Recovery (1 1/2-hour class) \n1:00 – 2:30 p.m.                 Shower/Laundry Class (2-hour class) – REPEAT \n2:30 – 2:45 p.m.                  Break \n2:45 – 4:15 p.m.                  Rebuild (1 1/2-hour class) \nRegistration Forms \nDisaster Relief volunteers can now download the following forms to their computers and fill them out and bring them with you to training or send them to the DR office. By typing these forms\, you are helping us save time with data entry and increasing our accuracy of keeping your records. \nUse this link to find the forms: https://tndisasterrelief.org/registration-forms/
URL:https://tndisasterrelief.org/event/introduction-to-disaster-relief-chainsaw-operation-safety-flood-recovery-shower-laundry-and-rebuild-maryville-east-tn/
LOCATION:Foothills Baptist Church\, Maryville\, 1551 W. Lamar Alexander Pkwy\, Maryville\, TN\, 37801\, United States
CATEGORIES:Intro to DR,Specialized,Training
ATTACH;FMTTYPE=image/webp:https://tndisasterrelief.org/wp-content/uploads/2025/08/IntroSpecClasses-logo-gold.webp
END:VEVENT
BEGIN:VEVENT
DTSTART;TZID=UTC:20251025T073000
DTEND;TZID=UTC:20251025T150000
DTSTAMP:20260421T215953
CREATED:20250703T155802Z
LAST-MODIFIED:20250909T142258Z
UID:15245-1761377400-1761404400@tndisasterrelief.org
SUMMARY:Introduction to Disaster Relief\, Chainsaw\, Flood Recovery\, Mass Feeding\, and Rebuild - Jackson (West TN)
DESCRIPTION:October 25\, 2025 – Englewood Baptist Church\, 2239 N. Highland Avenue\, Jackson\, TN 38305. To pre-register for this class\, contact Elizabeth Holmes at eholmes@tnbaptist.org with your names and classes desired. \nPlease pre-register by Monday\, October 20\, so that we can supply you with the proper training materials and/or lunch count on Saturday. \nThe credentialing fee is $40. This fee will cover not only the cost of the ID\, hat\, background check\, and membership pin\, but also the cost of any of the basic training courses a volunteer wants to take over the next 3 years. \nPLEASE bring exact cash or check made payable to: TBMB or Tennessee Baptist Mission Board along with your registration forms to make registration move more smoothly and faster. See link below for registration forms. \nTo be fully credentialed\, you will need to take at least one specialized class after you have taken the prerequisite course of “Introduction to Southern Baptist Disaster Relief.” \n7:30 – 8:00 a.m.                   Registration \n8:00 – 10:00 a.m.                Introduction to Disaster Relief (2-hour class) \n10:00 – 10:15 a.m.              Break \n10:15 a.m. – 12:15 p.m.     Chainsaw Operation & Safety (2-hour class)\n10:15 a.m. – 12:15 p.m.     Flood Recovery\n10:15 a.m. – 12:15 p.m.     Rebuild\n10:15 a.m. – 12:15 p.m.     Mass Feeding (Part 1 of 2) \n12:15 – 1:00 p.m.                 Lunch – $10/person \n1:00 – 3:00 p.m.                  Chainsaw Operation & Safety (2-hour class) – repeat\n1:00 – 3:00 p.m.                  Flood Recovery – repeat\n1:00 – 3:00 p.m.                  Mass Feeding (Part 2 of 2)\n1:00 – 3:00 p.m.                  Rebuild – repeat \nRegistration Forms \nDisaster Relief volunteers can now download the following forms to their computers and fill them out and bring them with you to training or send them to the DR office. By typing these forms\, you are helping us save time with data entry and increasing our accuracy of keeping your records. \n  \nUse this link to find the forms: https://tndisasterrelief.org/registration-forms/
URL:https://tndisasterrelief.org/event/introduction-to-disaster-relief-chainsaw-flood-recovery-mass-feeding-and-rebuild-jackson-west-tn/
LOCATION:Englewood Baptist Church\, Jackson\, 2239 N. Highland Avenue\, Jackson\, TN\, 38305\, United States
CATEGORIES:Intro to DR,Specialized,Training
ATTACH;FMTTYPE=image/webp:https://tndisasterrelief.org/wp-content/uploads/2025/08/IntroSpecClasses-logo-gold.webp
END:VEVENT
END:VCALENDAR