BEGIN:VCALENDAR
VERSION:2.0
PRODID:-//Tennessee Baptist Disaster Relief - ECPv6.15.20//NONSGML v1.0//EN
CALSCALE:GREGORIAN
METHOD:PUBLISH
X-ORIGINAL-URL:https://tndisasterrelief.org
X-WR-CALDESC:Events for Tennessee Baptist Disaster Relief
REFRESH-INTERVAL;VALUE=DURATION:PT1H
X-Robots-Tag:noindex
X-PUBLISHED-TTL:PT1H
BEGIN:VTIMEZONE
TZID:UTC
BEGIN:STANDARD
TZOFFSETFROM:+0000
TZOFFSETTO:+0000
TZNAME:UTC
DTSTART:20240101T000000
END:STANDARD
END:VTIMEZONE
BEGIN:VEVENT
DTSTART;VALUE=DATE:20250628
DTEND;VALUE=DATE:20250629
DTSTAMP:20260422T041634
CREATED:20250527T203329Z
LAST-MODIFIED:20250527T203329Z
UID:15228-1751068800-1751155199@tndisasterrelief.org
SUMMARY:ARRL (Ham Radio) Field Day at the MMC - Mt. Juliet (Middle TN)
DESCRIPTION:June 28\, 2025 -Missions Mobilization Center\, 6434 John Hagar Road\, Mt. Juliet\, TN 37122.  To pre-register for this class\, contact Bobbie Webb at kr4bt@benlomand.net.  \nPlease pre-register by Tuesday\, June 24\, so that we can supply you with the proper training materials and/or lunch count on Saturday. \nThe lunch fee is $5 and can be paid onsite the day of the training. \nhttp://www.arrl.org/field-day \n“We will start around 8 a.m. and go until . . .  We will only do this on Saturday (as a church meets at the MMC on Sundays). We will give you a tour of our Communications Room and let you get on the air and make some contacts.  We will also be doing some training on StarLink Satellite system.  We will train you on proper procedures on how to take care of it\, install it onsite at our Incident Command site\, and tear down. We will have a lot of experienced techs on hand to answer any of your questions. Hope to see you there.” \n \nRegistration Forms \nDisaster Relief volunteers can now download the following forms to their computers and fill them out and bring them to the training. By typing these forms\, it saves time with data entry and increasing accuracy of keeping your records. \nUse this link to find the forms: https://tndisasterrelief.org/registration-forms/
URL:https://tndisasterrelief.org/event/arrl-ham-radio-field-day-at-the-mmc-mt-juliet-middle-tn/
LOCATION:Missions Mobilization Center\, 6434 John Hagar Road\, Mt. Juliet\, TN\, United States
CATEGORIES:Events,Specialized
END:VEVENT
BEGIN:VEVENT
DTSTART;TZID=UTC:20250628T073000
DTEND;TZID=UTC:20250628T160000
DTSTAMP:20260422T041634
CREATED:20250508T131435Z
LAST-MODIFIED:20250528T195737Z
UID:15217-1751095800-1751126400@tndisasterrelief.org
SUMMARY:(added class) Introduction to Disaster Relief\, Chainsaw Operation & Safety\, Flood Recovery\, and Mass Feeding - Cedar Hill (Middle TN)
DESCRIPTION:June 28\, 2025 – Cedar Hill Baptist Church\, 112 S. Main Street\, Cedar Hill\, TN 37032. To pre-register for this class\, contact Troy Weaver at troyweaver5663@gmail.com or (615) 533-9891 with your names and classes desired. \nPlease pre-register by Monday\, June 23\, so that we can supply you with the proper training materials and/or lunch count on Saturday. \nThe credentialing fee is $40. This fee will cover not only the cost of the ID\, hat\, background check\, and membership pin\, but also the cost of any of the basic training courses a volunteer wants to take over the next 3 years. \nPLEASE bring exact cash or check made payable to: TBMB or Tennessee Baptist Mission Board along with your registration forms to make registration move more smoothly and faster. See link below for registration forms. \nTo be fully credentialed\, you will need to take at least one specialized class after you have taken the prerequisite course of “Introduction to Southern Baptist Disaster Relief.” \n7:30 – 8:00 a.m.                 Registration \n8:00 – 10:00 a.m.              Introduction to Disaster Relief (2 hour class) \n10:00 – 10:15 a.m.             Break \n10:15 a.m. – 12:15 p.m.    Chainsaw Operation & Safety (2-hour class) \n12:15 – 1:00 p.m.                Lunch – $6/person \n1:00 – 3:00 p.m.                Flood Recovery(2-hour class) \n1:00 – 4:00 p.m.                Mass Feeding (3-hour class) \nRegistration Forms \nDisaster Relief volunteers can now download the following forms to their computers and fill them out and bring them with you to training or send them to the DR office. By typing these forms\, you are helping us save time with data entry and increasing our accuracy of keeping your records. \n  \nUse this link to find the forms: https://tndisasterrelief.org/registration-forms/
URL:https://tndisasterrelief.org/event/introduction-to-disaster-relief-chainsaw-operation-safety-and-mass-feeding-cedar-hill-middle-tn/
LOCATION:Cedar Hill Baptist Church\, Cedar Hill\, 112 S. Main Street\, Cedar Hill\, TN\, 37032\, United States
CATEGORIES:Intro to DR,Specialized,Training
END:VEVENT
END:VCALENDAR