BEGIN:VCALENDAR
VERSION:2.0
PRODID:-//Tennessee Baptist Disaster Relief - ECPv6.15.20//NONSGML v1.0//EN
CALSCALE:GREGORIAN
METHOD:PUBLISH
X-ORIGINAL-URL:https://tndisasterrelief.org
X-WR-CALDESC:Events for Tennessee Baptist Disaster Relief
REFRESH-INTERVAL;VALUE=DURATION:PT1H
X-Robots-Tag:noindex
X-PUBLISHED-TTL:PT1H
BEGIN:VTIMEZONE
TZID:UTC
BEGIN:STANDARD
TZOFFSETFROM:+0000
TZOFFSETTO:+0000
TZNAME:UTC
DTSTART:20240101T000000
END:STANDARD
END:VTIMEZONE
BEGIN:VEVENT
DTSTART;TZID=UTC:20250301T073000
DTEND;TZID=UTC:20250301T160000
DTSTAMP:20260423T061817
CREATED:20241216T174839Z
LAST-MODIFIED:20241216T174839Z
UID:15074-1740814200-1740844800@tndisasterrelief.org
SUMMARY:Introduction to Disaster Relief\, Chainsaw O & S\, and Mass Feeding - Lawrenceburg (Middle TN)
DESCRIPTION:March 1\, 2025 – Immanuel Baptist Church\, 708 E. Gaines Street\, Lawrenceburg\, TN 38464. To pre-register for this class\, contact the church office at (931) 762-4669 with your names and classes desired. \nPlease pre-register by Monday\, February 24\, so that we can supply you with the proper training materials and/or lunch count on Saturday. \nThe credentialing fee is $40. This fee will cover not only the cost of the ID\, hat\, background check\, and membership pin\, but also the cost of any of the basic training courses a volunteer wants to take over the next 3 years. \nPLEASE bring exact cash or check made payable to: TBMB or Tennessee Baptist Mission Board along with your registration forms to make registration move more smoothly and faster. See link below for registration forms. \nTo be fully credentialed\, you will need to take at least one specialized class after you have taken the prerequisite course of “Introduction to Southern Baptist Disaster Relief.” \n7:30 – 8:00 a.m.                 Registration \n8:00 – 10:00 a.m.              Introduction to Disaster Relief (2 hour class) \n10:00  – 10:15 a.m.            Break \n10:15 a.m. – 12:15 p.m.    Chainsaw Operation & Safety (2-hour class) \n12:15 – 1:00 p.m.                Lunch – provided by Lawrence County Association of Baptists (must pre-register) \n1:00 – 4:00 p.m.                  Mass Feeding (3-hour class) \n  \nRegistration Forms \nDisaster Relief volunteers can now download the following forms to their computers and fill them out and bring them with you to training or send them to the DR office. By typing these forms\, you are helping us save time with data entry and increasing our accuracy of keeping your records. \nUse this link to find the forms: https://tndisasterrelief.org/registration-forms/
URL:https://tndisasterrelief.org/event/introduction-to-disaster-relief-chainsaw-o-s-and-mass-feeding-lawrenceburg-middle-tn/
LOCATION:Immanuel Baptist Church\, Lawrenceburg\, 709 E. Gaines Street\, Lawrenceburg\, TN\, 38464\, United States
CATEGORIES:Intro to DR,Specialized,Training
END:VEVENT
BEGIN:VEVENT
DTSTART;TZID=UTC:20250307T173000
DTEND;TZID=UTC:20250308T150000
DTSTAMP:20260423T061817
CREATED:20241104T215922Z
LAST-MODIFIED:20241218T205729Z
UID:15042-1741368600-1741446000@tndisasterrelief.org
SUMMARY:2025 West TN Regional - Germantown (West TN)
DESCRIPTION:March 7-8\, 2025 – Germantown Baptist Church\, 9450 Poplar Ave\, Germantown\, TN 38139.  To pre-register for this class\, REGISTER ONLINE – click here.  For questions\, contact Elizabeth Holmes at eholmes@tnbaptist.org or (615) 371-7926.\n\nPlease pre-register by Monday\, February 3\, so that we can supply you with the proper training materials and/or lunch count on Saturday. \nThe credentialing fee is $40. This fee will cover not only the cost of the ID\, hat\, background check\, and membership pin\, but also the cost of any of the basic training courses a volunteer wants to take over the next 3 years. \nPLEASE bring exact cash or check made payable to: TBMB or Tennessee Baptist Mission Board along with your registration forms to make registration move more smoothly and faster. See link below for registration forms. \nTo be fully credentialed\, you will need to take at least one specialized class after you have taken the prerequisite course of “Introduction to Southern Baptist Disaster Relief.” \nREGISTER ONLINE – click here.\n2025 Regional Training Agenda – West – click here\n\n  \nRegistration Forms \nDisaster Relief Volunteers can now download the following forms to their computers and fill them out and bring them with you to training or send them to the DR office. By typing these forms\, you are helping us save time with data entry and increasing our accuracy of keeping your records. \nUse this link to find the forms: https://tndisasterrelief.org/registration-forms/
URL:https://tndisasterrelief.org/event/west-tn-regional-germantown-west-tn/
LOCATION:Germantown Baptist Church\, Germantown\, 9450 Poplar Avenue\, Germantown\, TN\, 38139\, United States
CATEGORIES:Intro to DR,Regional,Specialized,Training
END:VEVENT
BEGIN:VEVENT
DTSTART;TZID=UTC:20250308T073000
DTEND;TZID=UTC:20250308T160000
DTSTAMP:20260423T061817
CREATED:20241219T155955Z
LAST-MODIFIED:20250210T142319Z
UID:15097-1741419000-1741449600@tndisasterrelief.org
SUMMARY:Introduction to Disaster Relief\, Chainsaw Operation & Safety\, and Rebuild - Jonesborough (East TN)
DESCRIPTION:March 8\, 2025 – First Baptist Church\, 201 E. Main Street\, Jonesborough\, TN 37659. To pre-register for this class\, contact the church office at Secretaryfbcj@gmail.com or (423) 753-3441 with your name and classes desired. \nPlease pre-register by Monday\, March 3\, so that we can supply you with the proper training materials and/or lunch count on Saturday. \nThe credentialing fee is $40. This fee will cover not only the cost of the ID\, hat\, background check\, and membership pin\, but also the cost of any of the basic training courses a volunteer wants to take over the next 3 years. \nPLEASE bring exact cash or check made payable to: TBMB or Tennessee Baptist Mission Board along with your registration forms to make registration move more smoothly and faster. See link below for registration forms. \nTo be fully credentialed\, you will need to take at least one specialized class after you have taken the prerequisite course of “Introduction to Southern Baptist Disaster Relief.” \n7:30 – 8:00 a.m.                 Registration \n8:00 – 10:00 a.m.              Introduction to Disaster Relief (2 hour class) \n10:00  – 10:15 a.m.            Break \n10:15 a.m. – 12:15 p.m.    Chainsaw Operation & Safety (2-hour class) \n12:15 – 1:00 p.m.                Lunch – $6/person \n1:00 – 3:00 p.m.                 Rebuild (2-hour class) \n1:00 – 4:00 p.m.                 Mass Feeding (3-hour class) \nRegistration Forms \nDisaster Relief volunteers can now download the following forms to their computers and fill them out and bring them with you to training or send them to the DR office. By typing these forms\, you are helping us save time with data entry and increasing our accuracy of keeping your records. \nUse this link to find the forms: https://tndisasterrelief.org/registration-forms/
URL:https://tndisasterrelief.org/event/introduction-to-disaster-relief-chainsaw-operation-safety-and-rebuild-jonesborough-east-tn/
LOCATION:Jonesborough\, First Baptist Church\, 201 E. Main Street\, Jonesborough\, TN\, 37659\, United States
CATEGORIES:Intro to DR,Specialized,Training
END:VEVENT
BEGIN:VEVENT
DTSTART;TZID=UTC:20250315T080000
DTEND;TZID=UTC:20250315T170000
DTSTAMP:20260423T061817
CREATED:20250106T151510Z
LAST-MODIFIED:20250106T151510Z
UID:15102-1742025600-1742058000@tndisasterrelief.org
SUMMARY:Introduction to Disaster Relief\, Flood Recovery\, Rebuild\, and Shower/Laundry - Knoxville (East TN)
DESCRIPTION:March 15\, 2025 – Fellowship North Church\, 3203 Tazewell Pike\, Knoxville\, TN 37918. To pre-register for this class\, contact Bob Gahl at (408) 828-2113 or bgahl@bawcsa.org with your names and classes desired. \nPlease pre-register by Monday\, March 10\, so that we can supply you with the proper training materials and/or lunch count on Saturday. \nThe credentialing fee is $40. This fee will cover not only the cost of the ID\, hat\, background check\, and membership pin\, but also the cost of any of the basic training courses a volunteer wants to take over the next 3 years. \nPLEASE bring exact cash or check made payable to: TBMB or Tennessee Baptist Mission Board along with your registration forms to make registration move more smoothly and faster. See link below for registration forms. \nTo be fully credentialed\, you will need to take at least one specialized class after you have taken the prerequisite course of “Introduction to Southern Baptist Disaster Relief.” \n7:30 – 8:00 a.m.                 Registration \n8:00 – 10:00 a.m.               Introduction to Disaster Relief (2 hour class) \n10:00  – 10:15 a.m.            Break \n10:15 a.m. – 11:45 a.m.    Flood Recovery (1 1/2-hour class) \n11:45 – 12:15 p.m.             Lunch – $6/person \n12:15 – 1:45 p.m.               Rebuild (1 1/2-hour class) \n1:45 – 2:00 p.m.                 Break \n2:00 – 3:30 p.m.                Shower/Laundry (1 1/2-hour class) \nRegistration Forms \nDisaster Relief volunteers can now download the following forms to their computers and fill them out and bring them with you to training or send them to the DR office. By typing these forms\, you are helping us save time with data entry and increasing our accuracy of keeping your records. \nUse this link to find the forms: https://tndisasterrelief.org/registration-forms/
URL:https://tndisasterrelief.org/event/introduction-to-disaster-relief-flood-recovery-rebuild-and-shower-laundry-knoxville-east-tn/
LOCATION:Fellowship North Church\, Knoxville\, 3203 Tazewell Pike\, Knoxville\, TN\, 37918\, United States
CATEGORIES:Intro to DR,Specialized,Training
END:VEVENT
BEGIN:VEVENT
DTSTART;TZID=UTC:20250322T073000
DTEND;TZID=UTC:20250322T121500
DTSTAMP:20260423T061817
CREATED:20250210T142150Z
LAST-MODIFIED:20250210T142247Z
UID:15140-1742628600-1742645700@tndisasterrelief.org
SUMMARY:Introduction to Disaster Relief and Chainsaw Operation & Safety - Dresden (West TN)
DESCRIPTION:March 22\, 2025 – First Baptist Church\, 490 Morrow St\, Dresden\, TN 38225. To pre-register for this class\, contact Tera Lochala at (731) 364-3739 or weakley.baptists@gmail.com with your name. \nPlease pre-register by Thursday\, March 20th\, so that we can supply you with the proper training materials. \nThe credentialing fee is $40. This fee will cover not only the cost of the ID\, hat\, background check\, and membership pin\, but also the cost of any of the basic training courses a volunteer wants to take over the next 3 years. \nPLEASE bring exact cash or check made payable to: WCBA (Weakley County Baptist Association) along with your registration forms to make registration move more smoothly and faster. See link below for registration forms. \nTo be fully credentialed\, you will need to take at least one specialized class after you have taken the prerequisite course of “Introduction to Southern Baptist Disaster Relief.” \n7:30 – 8:00 a.m.                  Registration \n8:00 – 10:00 a.m.                Introduction to Disaster Relief (2 hour class) \n10:00 – 10:15 a.m.               Break \n10:15 a.m. – 12:15 p.m.      Chainsaw Operation & Safety (2-hour class) \n  \nRegistration Forms \nDisaster Relief volunteers can now download the following forms to their computers and fill them out and bring them with you to training or send them to the DR office. By typing these forms\, you are helping us save time with data entry and increasing our accuracy of keeping your records. \nUse this link to find the forms: https://tndisasterrelief.org/registration-forms/
URL:https://tndisasterrelief.org/event/introduction-to-disaster-relief-and-chainsaw-operation-safety/
LOCATION:Dresden\, First Baptist Church\, 490 Morrow St\, Dresden\, TN\, 38225\, United States
CATEGORIES:Intro to DR,Specialized,Training
END:VEVENT
END:VCALENDAR