BEGIN:VCALENDAR
VERSION:2.0
PRODID:-//Tennessee Baptist Disaster Relief - ECPv6.15.20//NONSGML v1.0//EN
CALSCALE:GREGORIAN
METHOD:PUBLISH
X-ORIGINAL-URL:https://tndisasterrelief.org
X-WR-CALDESC:Events for Tennessee Baptist Disaster Relief
REFRESH-INTERVAL;VALUE=DURATION:PT1H
X-Robots-Tag:noindex
X-PUBLISHED-TTL:PT1H
BEGIN:VTIMEZONE
TZID:UTC
BEGIN:STANDARD
TZOFFSETFROM:+0000
TZOFFSETTO:+0000
TZNAME:UTC
DTSTART:20250101T000000
END:STANDARD
END:VTIMEZONE
BEGIN:VEVENT
DTSTART;TZID=UTC:20260313T173000
DTEND;TZID=UTC:20260314T150000
DTSTAMP:20260421T124243
CREATED:20251215T210905Z
LAST-MODIFIED:20251215T210905Z
UID:15600-1773423000-1773500400@tndisasterrelief.org
SUMMARY:Chaplaincy (during regional training) - Johnson City (East)
DESCRIPTION:March 13-14\, 2026\n📍 Boone Trail Baptist Church\, 1985 Carroll Creek Road\, Johnson City\, TN 37615\nTraining Schedule\n\nFriday: 5:30–8:30 p.m. (includes registration)\nSaturday: 8:00 a.m.–2:00 p.m. (approx.)🍴 Lunch available Saturday for $10/person\n2026 Regional Training Agenda – East\n\nWho Should Attend\n\nNew volunteers seeking to become Disaster Relief Chaplains\nCurrent chaplains needing a refresher\n\nRegistration\n\nRegister online – click here\nQuestions: Elizabeth Holmes – eholmes@tnbaptist.org\nDeadline: Please pre-register by Monday\, March 9\, 2026.\nLimited to the first 20 registrants\n\nPrerequisites\n\nComplete Introduction to Disaster Relief within the last 3 years\nDownload\, read\, and print the DR_Chaplain-Training-Manual_2016 or bring with you on a laptop or iPad.\nSubmit pre-registration form online. (See above.)\nSubmit pastor’s letter of recommendation (must be received before training)\n\nForms Needed\n\nFill out\, print\, and bring this form to the training:  2024 Record of Volunteer Training – Fillable\n\n💡Filling out forms electronically helps us save time and keep records accurate!
URL:https://tndisasterrelief.org/event/chaplaincy-during-regional-training-johnson-city-east/
LOCATION:Boone Trail Baptist Church\, Johnson City\, 1985 Carroll Creek Rd\, Johnson City\, TN\, 37615\, United States
CATEGORIES:Chaplaincy,Training
ATTACH;FMTTYPE=image/webp:https://tndisasterrelief.org/wp-content/uploads/2025/07/Chaplaincy-logo-gold.webp
END:VEVENT
END:VCALENDAR